BEGIN:VCALENDAR
VERSION:2.0
PRODID:-//CEET - ECPv6.15.20//NONSGML v1.0//EN
CALSCALE:GREGORIAN
METHOD:PUBLISH
X-ORIGINAL-URL:https://ceet.org.es
X-WR-CALDESC:Eventos para CEET
REFRESH-INTERVAL;VALUE=DURATION:PT1H
X-Robots-Tag:noindex
X-PUBLISHED-TTL:PT1H
BEGIN:VTIMEZONE
TZID:Europe/Paris
BEGIN:DAYLIGHT
TZOFFSETFROM:+0100
TZOFFSETTO:+0200
TZNAME:CEST
DTSTART:20230326T010000
END:DAYLIGHT
BEGIN:STANDARD
TZOFFSETFROM:+0200
TZOFFSETTO:+0100
TZNAME:CET
DTSTART:20231029T010000
END:STANDARD
BEGIN:DAYLIGHT
TZOFFSETFROM:+0100
TZOFFSETTO:+0200
TZNAME:CEST
DTSTART:20240331T010000
END:DAYLIGHT
BEGIN:STANDARD
TZOFFSETFROM:+0200
TZOFFSETTO:+0100
TZNAME:CET
DTSTART:20241027T010000
END:STANDARD
BEGIN:DAYLIGHT
TZOFFSETFROM:+0100
TZOFFSETTO:+0200
TZNAME:CEST
DTSTART:20250330T010000
END:DAYLIGHT
BEGIN:STANDARD
TZOFFSETFROM:+0200
TZOFFSETTO:+0100
TZNAME:CET
DTSTART:20251026T010000
END:STANDARD
END:VTIMEZONE
BEGIN:VEVENT
DTSTART;VALUE=DATE:20240228
DTEND;VALUE=DATE:20240302
DTSTAMP:20260421T173917
CREATED:20240515T225914Z
LAST-MODIFIED:20240515T225914Z
UID:2650-1709078400-1709337599@ceet.org.es
SUMMARY:IV JFET- Cuenca
DESCRIPTION:Las Jornadas de Fomento de Estudios de Telecomunicación es un evento del Consejo Estatal de Estudiantes de Telecomunicación (CEET)\, para acercar a los estudiantes preuniversitarios y dar a conocer las telecomunicaciones\, mostrando todas sus posibilidades y salidas. \nEn el año 2024\, las IV JFET se celebrará del 28 de febrero al 1 de marzo en Cuenca y la delegación de estudiantes de la EPC es la encargada de su organización. Las charlas de los distintos ponentes en las que\, así como la Asamblea\, se celebrarán en la escuela.
URL:https://ceet.org.es/event/iv-jfet-cuenca/
END:VEVENT
BEGIN:VEVENT
DTSTART;VALUE=DATE:20240309
DTEND;VALUE=DATE:20240310
DTSTAMP:20260421T173917
CREATED:20230901T162337Z
LAST-MODIFIED:20240221T000534Z
UID:1901-1709942400-1710028799@ceet.org.es
SUMMARY:UGR LanParty
DESCRIPTION:Es un evento de eSports organizado por el departamento de Teoría de la Señal\, Telemática y Comunicaciones en colaboración con la DEIIT. Compite con tus compañeros de la facultad para convertirte en el campeón en alguna de nuestras emocionantes competiciones: Clash Royale\, FIFA\, League of Legends\, Pokémon\, Rocket League y VALORANT. \nNo pierdas la oportunidad de demostrar tus habilidades en tus juegos favoritos y disfrutar de un ambiente lleno de emoción y diversión. No olvides inscribirte en los torneos a través de los formularios correspondientes y leer detenidamente las reglas de cada actividad. ¡Prepárate para la batalla y que gane el mejor!
URL:https://ceet.org.es/event/ugr-lanparty/
END:VEVENT
BEGIN:VEVENT
DTSTART;VALUE=DATE:20240314
DTEND;VALUE=DATE:20240316
DTSTAMP:20260421T173917
CREATED:20231007T230216Z
LAST-MODIFIED:20231007T230216Z
UID:1974-1710374400-1710547199@ceet.org.es
SUMMARY:T3chFest 2024
DESCRIPTION:
URL:https://ceet.org.es/event/t3chfest-2024/
LOCATION:Auditorio Universidad Carlos III de Madrid\, Auditorio Universidad Carlos III de Madrid\, Madrid\, España
END:VEVENT
BEGIN:VEVENT
DTSTART;VALUE=DATE:20240316
DTEND;VALUE=DATE:20240318
DTSTAMP:20260421T173917
CREATED:20230901T162416Z
LAST-MODIFIED:20230901T165910Z
UID:1903-1710547200-1710719999@ceet.org.es
SUMMARY:Student Gam Jam UGR
DESCRIPTION:Una game jam es una reunión de desarrolladores/as\, artistas\, diseñadores/as\, etc. para crear un juego en un espacio corto de tiempo. Una especie de Hackathon de videojuegos. \nEl 14/03/2023 tuvo lugar la I edición de la Student Game Jam\, organizada por la DEITT y la Delegación de estudiantes de BBAA. Para obtener más información sobre este evento pulse aquí.
URL:https://ceet.org.es/event/student-gam-jam-ugr/
END:VEVENT
END:VCALENDAR