BEGIN:VCALENDAR
VERSION:2.0
PRODID:-//CEET - ECPv6.15.20//NONSGML v1.0//EN
CALSCALE:GREGORIAN
METHOD:PUBLISH
X-ORIGINAL-URL:https://ceet.org.es
X-WR-CALDESC:Eventos para CEET
REFRESH-INTERVAL;VALUE=DURATION:PT1H
X-Robots-Tag:noindex
X-PUBLISHED-TTL:PT1H
BEGIN:VTIMEZONE
TZID:Europe/Paris
BEGIN:DAYLIGHT
TZOFFSETFROM:+0100
TZOFFSETTO:+0200
TZNAME:CEST
DTSTART:20220327T010000
END:DAYLIGHT
BEGIN:STANDARD
TZOFFSETFROM:+0200
TZOFFSETTO:+0100
TZNAME:CET
DTSTART:20221030T010000
END:STANDARD
BEGIN:DAYLIGHT
TZOFFSETFROM:+0100
TZOFFSETTO:+0200
TZNAME:CEST
DTSTART:20230326T010000
END:DAYLIGHT
BEGIN:STANDARD
TZOFFSETFROM:+0200
TZOFFSETTO:+0100
TZNAME:CET
DTSTART:20231029T010000
END:STANDARD
BEGIN:DAYLIGHT
TZOFFSETFROM:+0100
TZOFFSETTO:+0200
TZNAME:CEST
DTSTART:20240331T010000
END:DAYLIGHT
BEGIN:STANDARD
TZOFFSETFROM:+0200
TZOFFSETTO:+0100
TZNAME:CET
DTSTART:20241027T010000
END:STANDARD
END:VTIMEZONE
BEGIN:VEVENT
DTSTART;VALUE=DATE:20231030
DTEND;VALUE=DATE:20231101
DTSTAMP:20260423T205205
CREATED:20230909T210244Z
LAST-MODIFIED:20230909T210244Z
UID:1961-1698624000-1698796799@ceet.org.es
SUMMARY:Cyber Security World
DESCRIPTION:
URL:https://ceet.org.es/event/cyber-security-world/
END:VEVENT
BEGIN:VEVENT
DTSTART;VALUE=DATE:20231030
DTEND;VALUE=DATE:20231101
DTSTAMP:20260423T205205
CREATED:20230909T210452Z
LAST-MODIFIED:20230909T210452Z
UID:1965-1698624000-1698796799@ceet.org.es
SUMMARY:Cloud Expo Europe
DESCRIPTION:
URL:https://ceet.org.es/event/cloud-expo-europe/
LOCATION:IFEMA\, Madrid\, España
END:VEVENT
END:VCALENDAR