BEGIN:VCALENDAR
VERSION:2.0
PRODID:-//CEET - ECPv6.15.20//NONSGML v1.0//EN
CALSCALE:GREGORIAN
METHOD:PUBLISH
X-ORIGINAL-URL:https://ceet.org.es
X-WR-CALDESC:Eventos para CEET
REFRESH-INTERVAL;VALUE=DURATION:PT1H
X-Robots-Tag:noindex
X-PUBLISHED-TTL:PT1H
BEGIN:VTIMEZONE
TZID:Europe/Paris
BEGIN:DAYLIGHT
TZOFFSETFROM:+0100
TZOFFSETTO:+0200
TZNAME:CEST
DTSTART:20220327T010000
END:DAYLIGHT
BEGIN:STANDARD
TZOFFSETFROM:+0200
TZOFFSETTO:+0100
TZNAME:CET
DTSTART:20221030T010000
END:STANDARD
BEGIN:DAYLIGHT
TZOFFSETFROM:+0100
TZOFFSETTO:+0200
TZNAME:CEST
DTSTART:20230326T010000
END:DAYLIGHT
BEGIN:STANDARD
TZOFFSETFROM:+0200
TZOFFSETTO:+0100
TZNAME:CET
DTSTART:20231029T010000
END:STANDARD
BEGIN:DAYLIGHT
TZOFFSETFROM:+0100
TZOFFSETTO:+0200
TZNAME:CEST
DTSTART:20240331T010000
END:DAYLIGHT
BEGIN:STANDARD
TZOFFSETFROM:+0200
TZOFFSETTO:+0100
TZNAME:CET
DTSTART:20241027T010000
END:STANDARD
END:VTIMEZONE
BEGIN:VEVENT
DTSTART;VALUE=DATE:20231017
DTEND;VALUE=DATE:20231018
DTSTAMP:20260423T220920
CREATED:20230909T210344Z
LAST-MODIFIED:20230909T210344Z
UID:1963-1697500800-1697587199@ceet.org.es
SUMMARY:Red Hat Summit Connect Madrid
DESCRIPTION:El código abierto se basa en una cultura en la que prima el deseo de conectarse y de hacerlo a través de las tecnologías. Sin embargo\, lo que llama la atención no es la tecnología por sí sola\, sino todo lo que podemos llegar a realizar con ella. Con los pilares adecuados\, con una base abierta\, se da la posibilidad de alcanzar objetivos tan escalables como sea necesario. \nNuestro Summit Connect de Madrid ofrece la oportunidad de que las ideas se hagan realidad. En este encuentro presencial tendrás la oportunidad de realizar preguntas\, aprender de aquellos que lideran la transformación digital y descubrir cuáles son las tendencias del sector. Durante la jornada abordaremos las últimas y mejores tecnologías\, incluyendo los servicios en la nube\, el desarrollo de apps\, las plataformas o la automatización de infraestructuras.
URL:https://ceet.org.es/event/red-hat-summit-connect-madrid/
END:VEVENT
BEGIN:VEVENT
DTSTART;VALUE=DATE:20231017
DTEND;VALUE=DATE:20231020
DTSTAMP:20260423T220920
CREATED:20230901T164954Z
LAST-MODIFIED:20230901T164954Z
UID:1925-1697500800-1697759999@ceet.org.es
SUMMARY:ISACA Europe Conference 2023: Digital Trust World in Dublin\, Ireland!
DESCRIPTION:
URL:https://ceet.org.es/event/isaca-europe-conference-2023-digital-trust-world-in-dublin-ireland/
END:VEVENT
END:VCALENDAR