BEGIN:VCALENDAR
VERSION:2.0
PRODID:-//CEET - ECPv6.15.20//NONSGML v1.0//EN
CALSCALE:GREGORIAN
METHOD:PUBLISH
X-WR-CALNAME:CEET
X-ORIGINAL-URL:https://ceet.org.es
X-WR-CALDESC:Eventos para CEET
REFRESH-INTERVAL;VALUE=DURATION:PT1H
X-Robots-Tag:noindex
X-PUBLISHED-TTL:PT1H
BEGIN:VTIMEZONE
TZID:Europe/Paris
BEGIN:DAYLIGHT
TZOFFSETFROM:+0100
TZOFFSETTO:+0200
TZNAME:CEST
DTSTART:20220327T010000
END:DAYLIGHT
BEGIN:STANDARD
TZOFFSETFROM:+0200
TZOFFSETTO:+0100
TZNAME:CET
DTSTART:20221030T010000
END:STANDARD
BEGIN:DAYLIGHT
TZOFFSETFROM:+0100
TZOFFSETTO:+0200
TZNAME:CEST
DTSTART:20230326T010000
END:DAYLIGHT
BEGIN:STANDARD
TZOFFSETFROM:+0200
TZOFFSETTO:+0100
TZNAME:CET
DTSTART:20231029T010000
END:STANDARD
BEGIN:DAYLIGHT
TZOFFSETFROM:+0100
TZOFFSETTO:+0200
TZNAME:CEST
DTSTART:20240331T010000
END:DAYLIGHT
BEGIN:STANDARD
TZOFFSETFROM:+0200
TZOFFSETTO:+0100
TZNAME:CET
DTSTART:20241027T010000
END:STANDARD
END:VTIMEZONE
BEGIN:VEVENT
DTSTART;VALUE=DATE:20230927
DTEND;VALUE=DATE:20230929
DTSTAMP:20260423T232921
CREATED:20230901T172007Z
LAST-MODIFIED:20230901T172007Z
UID:1940-1695772800-1695945599@ceet.org.es
SUMMARY:AI & Big Data Congress 2023
DESCRIPTION:Te esperamos los días 27 y 28 de septiembre de 2023 en el Auditorio AXA de Barcelona (Avda. Diagonal\, 547\, 08029 Barcelona).\nEste año el congreso será 100% presencial\, no se retransmitirá por streaming en directo.\nReserva ahora tu entrada para asistir al AI & Big Data Congress:\nINSCRÍBETE AQUÍ
URL:https://ceet.org.es/event/ai-big-data-congress-2023/
END:VEVENT
END:VCALENDAR