BEGIN:VCALENDAR
VERSION:2.0
PRODID:-//CEET - ECPv6.15.20//NONSGML v1.0//EN
CALSCALE:GREGORIAN
METHOD:PUBLISH
X-WR-CALNAME:CEET
X-ORIGINAL-URL:https://ceet.org.es
X-WR-CALDESC:Eventos para CEET
REFRESH-INTERVAL;VALUE=DURATION:PT1H
X-Robots-Tag:noindex
X-PUBLISHED-TTL:PT1H
BEGIN:VTIMEZONE
TZID:Europe/Paris
BEGIN:DAYLIGHT
TZOFFSETFROM:+0100
TZOFFSETTO:+0200
TZNAME:CEST
DTSTART:20220327T010000
END:DAYLIGHT
BEGIN:STANDARD
TZOFFSETFROM:+0200
TZOFFSETTO:+0100
TZNAME:CET
DTSTART:20221030T010000
END:STANDARD
BEGIN:DAYLIGHT
TZOFFSETFROM:+0100
TZOFFSETTO:+0200
TZNAME:CEST
DTSTART:20230326T010000
END:DAYLIGHT
BEGIN:STANDARD
TZOFFSETFROM:+0200
TZOFFSETTO:+0100
TZNAME:CET
DTSTART:20231029T010000
END:STANDARD
BEGIN:DAYLIGHT
TZOFFSETFROM:+0100
TZOFFSETTO:+0200
TZNAME:CEST
DTSTART:20240331T010000
END:DAYLIGHT
BEGIN:STANDARD
TZOFFSETFROM:+0200
TZOFFSETTO:+0100
TZNAME:CET
DTSTART:20241027T010000
END:STANDARD
END:VTIMEZONE
BEGIN:VEVENT
DTSTART;VALUE=DATE:20230915
DTEND;VALUE=DATE:20230917
DTSTAMP:20260423T232911
CREATED:20230901T171554Z
LAST-MODIFIED:20230901T172240Z
UID:1936-1694736000-1694908799@ceet.org.es
SUMMARY:RootedCON - Valencia
DESCRIPTION:
URL:https://ceet.org.es/event/rootedcon-valencia/
END:VEVENT
BEGIN:VEVENT
DTSTART;VALUE=DATE:20230916
DTEND;VALUE=DATE:20230917
DTSTAMP:20260423T232911
CREATED:20230829T160410Z
LAST-MODIFIED:20230901T173234Z
UID:1882-1694822400-1694908799@ceet.org.es
SUMMARY:V ExpoTIC - Vigo
DESCRIPTION:El XXXIV Congreso de Estudios de Telecomunicación (C.EE.T.) es el evento principal del Consejo Estatal de Estudiantes de Telecomunicación (CEET)\, una asociación fundada en 1989 que representa a más de 25.000 estudiantes de Ingeniería Técnica\, Grado y Máster en el ámbito de la Telecomunicación independientemente de cuál sea su especialidad o del Centro del Sistema Universitario del Estado español al que pertenezcan. \nEn el año 2023\, el XXXIV C.EE.T. se celebrará del 11 al 16 de septiembre en Vigo y la D.AA.T. es la encargada de su organización. Por ello\, se ha tomado la decisión de realizar un evento de gran envergadura e impacto mediático para conseguir impulsar el sector TIC en Galicia. Las actividades en las que se reúnen el estudiantado\, así como la Asamblea\, se celebrarán en la EET y diversas localidades de la UVigo los días 11\, 12\, 13\, 14 y 15 de septiembre\, coincidiendo con el Consejo de Directores de Telecomunicación (CODITEL) y la Feria Nacional tendrá lugar el día 16 de septiembre.
URL:https://ceet.org.es/event/expotic-vigo/
END:VEVENT
END:VCALENDAR